BEGIN:VCALENDAR
VERSION:2.0
PRODID:-//Tukios.com/
BEGIN:VEVENT
UID:115f81ad-540b-47cc-9d70-1a8eb2b6ee1a@www.dwswickfuneralhome.com
DTSTAMP:20260419T222730Z
DTSTART:20260421T220000Z
DTEND:20260422T000000Z
SUMMARY:Visitation
DESCRIPTION:
URL:https://www.dwswickfuneralhome.com/obituaries/george-antonaros
LOCATION:D.W. Swick & Son Funeral and Cremation Services 10900 Ohio 140  
	South Webster OH 45682
GEO:38.8142099;-82.7295076
END:VEVENT
END:VCALENDAR