BEGIN:VCALENDAR
VERSION:2.0
PRODID:-//Tukios.com/
BEGIN:VEVENT
UID:45e2cc3f-dd0a-4443-a1b5-a3947fbe9db0@www.dwswickfuneralhome.com
DTSTAMP:20260419T222425Z
DTSTART:20260422T170000Z
DTEND:20260422T180000Z
SUMMARY:Funeral Service
DESCRIPTION:
URL:https://www.dwswickfuneralhome.com/obituaries/george-antonaros
LOCATION:D.W. Swick & Son Funeral and Cremation Services 10900 Ohio 140  
	South Webster OH 45682
GEO:38.8142099;-82.7295076
END:VEVENT
END:VCALENDAR