BEGIN:VCALENDAR
VERSION:2.0
PRODID:-//Tukios.com/
BEGIN:VEVENT
UID:9fd71e73-33d6-4591-b84b-edccc9437782@www.dwswickfuneralhome.com
DTSTAMP:20260419T223050Z
DTSTART:20260422T160000Z
DTEND:20260422T170000Z
SUMMARY:Visitation
DESCRIPTION:
URL:https://www.dwswickfuneralhome.com/obituaries/george-antonaros
LOCATION:D.W. Swick & Son Funeral and Cremation Services 10900 Ohio 140  
	South Webster OH 45682
GEO:38.8142099;-82.7295076
END:VEVENT
END:VCALENDAR