BEGIN:VCALENDAR
VERSION:2.0
PRODID:-//Tukios.com/
BEGIN:VEVENT
UID:21b8fe07-4af8-4f1f-afef-bad833ea3c7b@www.dwswickfuneralhome.com
DTSTAMP:20260420T201746Z
DTSTART:20260423T160000Z
DTEND:20260423T180000Z
SUMMARY:Visitation
DESCRIPTION:
URL:https://www.dwswickfuneralhome.com/obituaries/james-rawlins
LOCATION:D.W. Swick & Son Funeral and Cremation Services 10900 Ohio 140  
	South Webster OH 45682
GEO:38.8142099;-82.7295076
END:VEVENT
END:VCALENDAR